BEGIN:VCALENDAR
VERSION:2.0
PRODID:Futebol\, pelo Teatro O Bando e Teatro Regional da Serra do Montemur
 o
X-WR-CALNAME:Futebol\, pelo Teatro O Bando e Teatro Regional da Serra do Mo
 ntemuro
X-WR-TIMEZONE:Europe/Lisbon
X-PUBLISHED-TTL:P1W
BEGIN:VTIMEZONE
TZID:Europe/Lisbon
X-LIC-LOCATION:Europe/Lisbon
END:VTIMEZONE
BEGIN:VEVENT
UID:69e5fa5c54649
DTSTART;VALUE=DATE:20230121
SEQUENCE:0
TRANSP:OPAQUE
DTEND;VALUE=DATE:20230122
SUMMARY:Futebol\, pelo Teatro O Bando e Teatro Regional da Serra do Montemu
 ro
CLASS:PUBLIC
DESCRIPTION:O Futebol é uma viagem triste do prazer ao dever.(Eduardo Gale
 ano\, in O Futebol ao Sol e à Sombra)De um lado\, pela equipa do Vale\, N
 é Fintas e Zé Passinhos assumem a teatralidade titular.Do outro\, Ed Cab
 eçadas e Bel Pontapé em representação da equipa da Serra.Espera-se um 
 jogo teatral competitivo onde a relação antropológica do ser humano com
  uma bola e o papel social e político do futebol moderno são as narrativ
 as tácticas em confronto.FUTEBOL-espectáculo tem a duração de cinco mi
 l anos: inicia-se como um rito das primeiras sociedades agrárias\; transf
 orma-se em competição na Idade Média\; modifica-se no encontro com os c
 ultos místicos da América Central e do Sul até se transformar no jogomo
 derno actual.Neste jogo popular e erudito\, a participação dos adeptos s
 erá decisiva durante o encontro. Através de uma aplicação móvel (disp
 onível para Android e iOS)\, o público pode votar em tempo real nos joga
 dores que vão ocupar as posições teatrais em cena.Preço com desconto: 
 6€(desconto JOVEM para menores 30 anos\; desconto SÉNIOR para maiores 6
 5 anos\; desconto FAMÍLIAS para famílias de 3 ou mais elementos com adul
 to(s) e criança(s) até aos 12 anos\; desconto CULTURAL para alunos e pro
 fessores de Conservatórios\, Academias\, Escolas de Artes e Ensino Superi
 or Artístico)Classificação etária: M/6Duração: 90 minutosMais inform
 ações:&nbsp\;https://teatromunicipal.ourem.pt/Bilhetes em&nbsp\;bit.ly/B
 ilheteiraTMO&nbsp\;| Lojas Worten\, Fnac\, CTTBilheteira TMO | 4ª a 6ª |
  13:00 – 19:00Dias de espetáculo | 2 horas antes do iníciobilheteira.t
 mo@cm-ourem.pt | 916 591 231
X-MICROSOFT-CDO-ALLDAYEVENT:TRUE
DTSTAMP:20260420T100516Z
END:VEVENT
END:VCALENDAR