BEGIN:VCALENDAR
VERSION:2.0
PRODID:Workshop de Dança - Grupo Impacto (Brasil)
X-WR-CALNAME:Workshop de Dança - Grupo Impacto (Brasil)
X-WR-TIMEZONE:Europe/Lisbon
X-PUBLISHED-TTL:P1W
BEGIN:VTIMEZONE
TZID:Europe/Lisbon
X-LIC-LOCATION:Europe/Lisbon
END:VTIMEZONE
BEGIN:VEVENT
UID:69e88b4748256
DTSTART;VALUE=DATE:20220916
SEQUENCE:0
TRANSP:OPAQUE
DTEND;VALUE=DATE:20220917
SUMMARY:Workshop de Dança - Grupo Impacto (Brasil)
CLASS:PUBLIC
DESCRIPTION:Workshop de dança dirigido a toda a comunidade e para particip
 ar não é necessário ter conhecimentos de dança.A participação no wor
 kshop de dança do Grupo Impacto é gratuita\, mas carece de inscrição p
 ara o email mediacao.tmo@cm-ourem.pt.
X-MICROSOFT-CDO-ALLDAYEVENT:TRUE
DTSTAMP:20260422T084807Z
END:VEVENT
END:VCALENDAR