BEGIN:VCALENDAR
VERSION:2.0
PRODID:Ciclo de Cinema \"Cinema e Literatura\"
X-WR-CALNAME:Ciclo de Cinema \"Cinema e Literatura\"
X-WR-TIMEZONE:Europe/Lisbon
X-PUBLISHED-TTL:P1W
BEGIN:VTIMEZONE
TZID:Europe/Lisbon
X-LIC-LOCATION:Europe/Lisbon
END:VTIMEZONE
BEGIN:VEVENT
UID:69e8a0c126c21
DTSTART;VALUE=DATE:20230405
SEQUENCE:0
TRANSP:OPAQUE
DTEND;VALUE=DATE:20230406
SUMMARY:Ciclo de Cinema \"Cinema e Literatura\"
CLASS:PUBLIC
DESCRIPTION:05 ABR UIVO - HOWL12 ABR RAIVA19 ABR A FEBRE FERRANTE26 ABR Ann
 ie Ernaux - OS ANOS SUPER 8
X-MICROSOFT-CDO-ALLDAYEVENT:TRUE
DTSTAMP:20260422T101945Z
END:VEVENT
END:VCALENDAR